BEGIN:VCALENDAR
VERSION:2.0
PRODID:-//ValleyPreneur Consulting e.V. - ECPv6.15.20//NONSGML v1.0//EN
CALSCALE:GREGORIAN
METHOD:PUBLISH
X-ORIGINAL-URL:https://vpc-wuppertal.de
X-WR-CALDESC:Veranstaltungen für ValleyPreneur Consulting e.V.
REFRESH-INTERVAL;VALUE=DURATION:PT1H
X-Robots-Tag:noindex
X-PUBLISHED-TTL:PT1H
BEGIN:VTIMEZONE
TZID:Europe/Berlin
BEGIN:DAYLIGHT
TZOFFSETFROM:+0100
TZOFFSETTO:+0200
TZNAME:CEST
DTSTART:20240331T010000
END:DAYLIGHT
BEGIN:STANDARD
TZOFFSETFROM:+0200
TZOFFSETTO:+0100
TZNAME:CET
DTSTART:20241027T010000
END:STANDARD
BEGIN:DAYLIGHT
TZOFFSETFROM:+0100
TZOFFSETTO:+0200
TZNAME:CEST
DTSTART:20250330T010000
END:DAYLIGHT
BEGIN:STANDARD
TZOFFSETFROM:+0200
TZOFFSETTO:+0100
TZNAME:CET
DTSTART:20251026T010000
END:STANDARD
BEGIN:DAYLIGHT
TZOFFSETFROM:+0100
TZOFFSETTO:+0200
TZNAME:CEST
DTSTART:20260329T010000
END:DAYLIGHT
BEGIN:STANDARD
TZOFFSETFROM:+0200
TZOFFSETTO:+0100
TZNAME:CET
DTSTART:20261025T010000
END:STANDARD
END:VTIMEZONE
BEGIN:VEVENT
DTSTART;TZID=Europe/Berlin:20250113T183000
DTEND;TZID=Europe/Berlin:20250113T203000
DTSTAMP:20260425T222122
CREATED:20241219T123915Z
LAST-MODIFIED:20241219T123915Z
UID:24546-1736793000-1736800200@vpc-wuppertal.de
SUMMARY:Ordentlichen Mitgliederversammlung
DESCRIPTION:
URL:https://vpc-wuppertal.de/event/ordentlichen-mitgliederversammlung
END:VEVENT
BEGIN:VEVENT
DTSTART;VALUE=DATE:20250117
DTEND;VALUE=DATE:20250120
DTSTAMP:20260425T222122
CREATED:20241209T155204Z
LAST-MODIFIED:20241219T123231Z
UID:24223-1737072000-1737331199@vpc-wuppertal.de
SUMMARY:JCNetwork Executive Days Ulm 2025
DESCRIPTION:Zweimal im Jahr finden die JCNetwork Executive Days statt. Die beiden Veranstaltungen sind für Vereinsvorstände\, Fellows und motivierte Junior Consultants. \nSie werden durch einen Mitgliedsverein des JCNetwork organisiert. Die studentischen Berater:innen aus unseren 34 Mitgliedsvereinen treffen sich hier zum Erfahrungsaustausch\, zur Weiterentwicklung des Dachverbands und zur Weiterbildung. \nGemeinsam wird an strategischen Verbandsprojekten des JCNetwork gearbeitet und jede Menge Spaß geboten!
URL:https://vpc-wuppertal.de/event/jcnetwork-executive-days-ulm-2025
END:VEVENT
END:VCALENDAR