BEGIN:VCALENDAR
VERSION:2.0
PRODID:-//ValleyPreneur Consulting e.V. - ECPv6.15.20//NONSGML v1.0//EN
CALSCALE:GREGORIAN
METHOD:PUBLISH
X-WR-CALNAME:ValleyPreneur Consulting e.V.
X-ORIGINAL-URL:https://vpc-wuppertal.de
X-WR-CALDESC:Veranstaltungen für ValleyPreneur Consulting e.V.
REFRESH-INTERVAL;VALUE=DURATION:PT1H
X-Robots-Tag:noindex
X-PUBLISHED-TTL:PT1H
BEGIN:VTIMEZONE
TZID:Europe/Berlin
BEGIN:DAYLIGHT
TZOFFSETFROM:+0100
TZOFFSETTO:+0200
TZNAME:CEST
DTSTART:20240331T010000
END:DAYLIGHT
BEGIN:STANDARD
TZOFFSETFROM:+0200
TZOFFSETTO:+0100
TZNAME:CET
DTSTART:20241027T010000
END:STANDARD
BEGIN:DAYLIGHT
TZOFFSETFROM:+0100
TZOFFSETTO:+0200
TZNAME:CEST
DTSTART:20250330T010000
END:DAYLIGHT
BEGIN:STANDARD
TZOFFSETFROM:+0200
TZOFFSETTO:+0100
TZNAME:CET
DTSTART:20251026T010000
END:STANDARD
BEGIN:DAYLIGHT
TZOFFSETFROM:+0100
TZOFFSETTO:+0200
TZNAME:CEST
DTSTART:20260329T010000
END:DAYLIGHT
BEGIN:STANDARD
TZOFFSETFROM:+0200
TZOFFSETTO:+0100
TZNAME:CET
DTSTART:20261025T010000
END:STANDARD
END:VTIMEZONE
BEGIN:VEVENT
DTSTART;VALUE=DATE:20251106
DTEND;VALUE=DATE:20251110
DTSTAMP:20260421T191024
CREATED:20241219T123817Z
LAST-MODIFIED:20250601T154959Z
UID:24544-1762387200-1762732799@vpc-wuppertal.de
SUMMARY:JCNetwork Days Leipzig 2025
DESCRIPTION:Zweimal jährlich\, im Frühjahr und im Herbst\, finden unsere großen Dachverbandstagungen\, die JCNetwork Days\, statt. \nEiner der Mitgliedsvereine organisiert für ca. 400 Junior Consultants aus ganz Deutschland ein spannendes Wochenende voller Weiterbildung\, Erfahrungsaustausch und Networking. Lass dich in anspruchsvollen Case Studies herausfordern und stelle dich dem Wettbewerb um das Projekt des Jahres! \nDiesen Winter finden die JCNetwork Days in Leipzig bei Campus Inform e.V. statt und wir wollen wieder mit 15+ Mitgliedern dabei sein! \nDie vier Tage All Inkl. enthalten bis zu 5 Unternehmensworkshops\, Businessdinner\, einer Firmenkontaktmesse\, mehrere Plenen mit interessanten Speakern und natürlich ein Ausgiebiges Abendprogramm.
URL:https://vpc-wuppertal.de/event/jcnetwork-days-mainz-2025
END:VEVENT
END:VCALENDAR