BEGIN:VCALENDAR
VERSION:2.0
PRODID:-//ValleyPreneur Consulting e.V. - ECPv6.15.20//NONSGML v1.0//EN
CALSCALE:GREGORIAN
METHOD:PUBLISH
X-WR-CALNAME:ValleyPreneur Consulting e.V.
X-ORIGINAL-URL:https://vpc-wuppertal.de
X-WR-CALDESC:Veranstaltungen für ValleyPreneur Consulting e.V.
REFRESH-INTERVAL;VALUE=DURATION:PT1H
X-Robots-Tag:noindex
X-PUBLISHED-TTL:PT1H
BEGIN:VTIMEZONE
TZID:Europe/Berlin
BEGIN:DAYLIGHT
TZOFFSETFROM:+0100
TZOFFSETTO:+0200
TZNAME:CEST
DTSTART:20230326T010000
END:DAYLIGHT
BEGIN:STANDARD
TZOFFSETFROM:+0200
TZOFFSETTO:+0100
TZNAME:CET
DTSTART:20231029T010000
END:STANDARD
BEGIN:DAYLIGHT
TZOFFSETFROM:+0100
TZOFFSETTO:+0200
TZNAME:CEST
DTSTART:20240331T010000
END:DAYLIGHT
BEGIN:STANDARD
TZOFFSETFROM:+0200
TZOFFSETTO:+0100
TZNAME:CET
DTSTART:20241027T010000
END:STANDARD
BEGIN:DAYLIGHT
TZOFFSETFROM:+0100
TZOFFSETTO:+0200
TZNAME:CEST
DTSTART:20250330T010000
END:DAYLIGHT
BEGIN:STANDARD
TZOFFSETFROM:+0200
TZOFFSETTO:+0100
TZNAME:CET
DTSTART:20251026T010000
END:STANDARD
END:VTIMEZONE
BEGIN:VEVENT
DTSTART;TZID=Europe/Berlin:20241220T180000
DTEND;TZID=Europe/Berlin:20241220T233000
DTSTAMP:20260426T014157
CREATED:20241219T124330Z
LAST-MODIFIED:20241219T124354Z
UID:24548-1734717600-1734737400@vpc-wuppertal.de
SUMMARY:VPC Weihnachtsfeier 2024
DESCRIPTION:Wir laden euch ein! Kommt mit uns auf einen Rundgang über den VPC-Weihnachtsmarkt ❄️ Greift nach den leckeren Snacks und schnappt euch einen Glühwein (oder etwas alkoholfreies)\, serviert vom lieben Sales Team in den legendären VPC-Greens Bechern. Bemalt Kekse\, schießt lustige Fotos am Fotostand und spielt Spiele\, gemeinsam oder gegeneinander. Zu einer richtigen Weihnachtsfeier gehören auch Geschenke\, am Schrottwichtelstand vom Sustainability-Team dürft ihr euren eingepackten Schrott ablegen\, und mit anderen tauschen (Bitte bringt dazu alle ein schreckliches Geschenk mit 🎁) Spoiler: Auf unserem Weihnachtsmarkt gibt es 40L heißen Wein\, es wird niemand Durst haben müssen. 🥂 \nSelbstverständlich ist das nicht alles. Nachdem ihr ein wenig Zeit auf dem Weihnachtsmarkt verbracht habt\, die Snacks\, den Glühwein und/oder die Softdrinks genießen konntet\, wartet ein Team Spiel auf euch. Die Teams spielen um ein Set unserer extrem seltenen VPC-Kaffeetassen!
URL:https://vpc-wuppertal.de/event/vpc-weihnachtsfeier-2024
END:VEVENT
END:VCALENDAR